BEGIN:VCALENDAR
VERSION:2.0
PRODID:-//www.bellmund.ch//NONSGML kigkonsult.se iCalcreator 2.22//
CALSCALE:GREGORIAN
METHOD:PUBLISH
X-WR-TIMEZONE:Europe/Berlin
BEGIN:VEVENT
UID:20260422T100919CEST-8092l2BOHH@www.bellmund.ch
DTSTAMP:20260422T080919Z
DESCRIPTION:Klicken Sie auf den folgenden Link\, um weitere Informationen z
 ur Veranstaltung zu erhalten:\nhttp://www.bellmund.ch/de/veranstaltungen/d
 etail/detail.php?i=112
DTSTART:20261126T191900
DTEND:20261126T203000
LOCATION:Turnhalle Bellmund 
SUMMARY:Gemeindeversammlung
END:VEVENT
END:VCALENDAR
