BEGIN:VCALENDAR
VERSION:2.0
PRODID:-//www.bellmund.ch//NONSGML kigkonsult.se iCalcreator 2.22//
CALSCALE:GREGORIAN
METHOD:PUBLISH
X-WR-TIMEZONE:Europe/Berlin
BEGIN:VEVENT
UID:20260424T063449CEST-4384bmUNCE@www.bellmund.ch
DTSTAMP:20260424T043449Z
DESCRIPTION:Klicken Sie auf den folgenden Link\, um weitere Informationen z
 ur Veranstaltung zu erhalten:\nhttp://www.bellmund.ch/de/veranstaltungen/d
 etail/detail.php?i=110
DTSTART:20260912T000000
LOCATION:Gemeindeverwaltung
SUMMARY:Einweihungsfest Gemeindehaus Bellmund
END:VEVENT
END:VCALENDAR
