BEGIN:VCALENDAR
VERSION:2.0
PRODID:-//www.bellmund.ch//NONSGML kigkonsult.se iCalcreator 2.22//
CALSCALE:GREGORIAN
METHOD:PUBLISH
X-WR-TIMEZONE:Europe/Berlin
BEGIN:VEVENT
UID:20260424T223644CEST-1421U3F5a0@www.bellmund.ch
DTSTAMP:20260424T203644Z
DESCRIPTION:Klicken Sie auf den folgenden Link\, um weitere Informationen z
 ur Veranstaltung zu erhalten:\nhttp://www.bellmund.ch/de/abfallwirtschaft/
 abfallkalender/detail/detail.php?i=
DTSTART;VALUE=DATE:20260924
LOCATION:Ipsach 
SUMMARY:Hauskehricht
END:VEVENT
END:VCALENDAR
